BEGIN:VCALENDAR
PRODID:-//AT Content Types//AT Event//EN
VERSION:2.0
METHOD:PUBLISH
BEGIN:VEVENT
DTSTAMP:20260419T165117Z
CREATED:20210605T120754Z
UID:ATEvent-3579590454d942d3aa3a2739d828afc9
LAST-MODIFIED:20210605T121202Z
SUMMARY:Roma - No all’occupazione\, Palestina libera e Gerusalemme capitale
DTSTART:20210605T130000Z
DTEND:20210605T180000Z
LOCATION:Piazza San Giovanni - Roma
CLASS:PUBLIC
END:VEVENT
END:VCALENDAR
