BEGIN:VCALENDAR
PRODID:-//AT Content Types//AT Event//EN
VERSION:1.0
BEGIN:VEVENT
DTSTART:20251108T100000Z
DTEND:20251108T113000Z
DCREATED:20251106T212410Z
UID:ATEvent-34b448402aec4c5fa6818b7c399474eb
SEQUENCE:0
LAST-MODIFIED:20251106T212425Z
SUMMARY:Roma - Presentazione libro "LA FOLLIA DEL NUCLEARE"
LOCATION:UNIVERSITA' LA SAPIENZA di Roma.  Facoltà di Lettere e Filosofia. Materia Sociologia del Turismo.
PRIORITY:3
TRANSP:0
END:VEVENT
END:VCALENDAR
