BEGIN:VCALENDAR
PRODID:-//AT Content Types//AT Event//EN
VERSION:2.0
METHOD:PUBLISH
BEGIN:VEVENT
DTSTAMP:20260419T165344Z
CREATED:20250501T194502Z
UID:ATEvent-01b49ba753fc4d64b582610ec115259a
LAST-MODIFIED:20250501T194540Z
SUMMARY:Roma - Presentazione volume di Pancho Pardi "Il Parlamento contro la Costituzione"
DTSTART:20250515T150000Z
DTEND:20250515T170000Z
LOCATION:Fondazione Marco Besso ETS - Largo Torre Argentina 11 - Roma
CLASS:PUBLIC
END:VEVENT
END:VCALENDAR
