BEGIN:VCALENDAR
PRODID:-//AT Content Types//AT Event//EN
VERSION:1.0
BEGIN:VEVENT
DTSTART:20211221T130000Z
DTEND:20211221T160000Z
DCREATED:20211215T211551Z
UID:ATEvent-d2cfa260401646bfb845530406910096
SEQUENCE:0
LAST-MODIFIED:20211218T171124Z
SUMMARY:Roma - Presidio il 21/12 contro Autonomia Differenziata
LOCATION:P.zza Apostoli - Roma
PRIORITY:3
TRANSP:0
END:VEVENT
END:VCALENDAR
