BEGIN:VCALENDAR
PRODID:-//AT Content Types//AT Event//EN
VERSION:1.0
BEGIN:VEVENT
DTSTART:20220622T103000Z
DTEND:20220622T123000Z
DCREATED:20220618T140125Z
UID:ATEvent-f02c21b741fb419e8978451a6933939e
SEQUENCE:0
LAST-MODIFIED:20220618T140131Z
SUMMARY:Roma - Presidio per il ritiro del DDL Gelmini sull'Autonomia Differenziata
LOCATION:Via Stamperia 8 - Roma
PRIORITY:3
TRANSP:0
END:VEVENT
END:VCALENDAR
