BEGIN:VCALENDAR
PRODID:-//AT Content Types//AT Event//EN
VERSION:2.0
METHOD:PUBLISH
BEGIN:VEVENT
DTSTAMP:20260419T165345Z
CREATED:20250223T192438Z
UID:ATEvent-1506c85cd7d347e3b26c8e939b95ab71
LAST-MODIFIED:20250223T192443Z
SUMMARY:Roma - Sciopero dei magistrati italiani a difesa della Costituzione
DTSTART:20250227T090000Z
DTEND:20250227T110000Z
LOCATION:Piazza Cavour - Roma
CLASS:PUBLIC
END:VEVENT
END:VCALENDAR
