BEGIN:VCALENDAR
PRODID:-//AT Content Types//AT Event//EN
VERSION:1.0
BEGIN:VEVENT
DTSTART:20190929T080000Z
DTEND:20190929T140000Z
DCREATED:20190919T131143Z
UID:ATEvent-b3de3121c94340b29c7289c4f85d4e6c
SEQUENCE:0
LAST-MODIFIED:20190919T131202Z
SUMMARY:Roma - Seconda Assemblea Nazionale  per il ritiro di qualunque Autonomia differenziata
LOCATION:Liceo Tasso - Via Sicilia\, 168 - Roma
PRIORITY:3
TRANSP:0
END:VEVENT
END:VCALENDAR
