BEGIN:VCALENDAR
PRODID:-//AT Content Types//AT Event//EN
VERSION:2.0
METHOD:PUBLISH
BEGIN:VEVENT
DTSTAMP:20260419T134359Z
CREATED:20191113T211841Z
UID:ATEvent-ffbd8f91dda648999bf2450be2cbb21c
LAST-MODIFIED:20191113T212842Z
SUMMARY:Roma - Seminario su sanità ed economia 24 novembre
DTSTART:20191124T090000Z
DTEND:20191124T160000Z
LOCATION:Centro di cultura popolare Tufello- Via Capraia 81 (capolinea metro B Jonio) - Roma
CONTACT:forumdittoallasalutelazio@gmail.com
CLASS:PUBLIC
END:VEVENT
END:VCALENDAR
