BEGIN:VCALENDAR
PRODID:-//AT Content Types//AT Event//EN
VERSION:1.0
BEGIN:VEVENT
DTSTART:20221001T080000Z
DTEND:20221001T103000Z
DCREATED:20220930T205011Z
UID:ATEvent-0f973e49d0f74489a336a959dafa46c7
SEQUENCE:0
LAST-MODIFIED:20220930T205455Z
SUMMARY:Roma - Solidarietà con le donne iraniane: sabato in piazza in tutto il mondo
LOCATION:Piazza della Repubblica - Roma
PRIORITY:3
TRANSP:0
END:VEVENT
END:VCALENDAR
