BEGIN:VCALENDAR
PRODID:-//AT Content Types//AT Event//EN
VERSION:2.0
METHOD:PUBLISH
BEGIN:VEVENT
DTSTAMP:20260419T164833Z
CREATED:20220513T133858Z
UID:ATEvent-ffb662b82a4240d4b1e559b38ef4315b
LAST-MODIFIED:20220513T134512Z
SUMMARY:ROMA - Uniti contro la guerra
DTSTART:20220520T080000Z
DTEND:20220520T100000Z
LOCATION:P.zza Della Repubblica - Roma
CLASS:PUBLIC
END:VEVENT
END:VCALENDAR
