BEGIN:VCALENDAR
PRODID:-//AT Content Types//AT Event//EN
VERSION:2.0
METHOD:PUBLISH
BEGIN:VEVENT
DTSTAMP:20260419T164721Z
CREATED:20210226T215359Z
UID:ATEvent-b69fa898d57a4485b441eb5ccc6a8217
LAST-MODIFIED:20210226T215424Z
SUMMARY:Roma\,  Zero Discrimination Day”: #DIVERSƏDACHI
DTSTART:20210228T140000Z
DTEND:20210228T170000Z
LOCATION:piazza del Popolo -Roma
URL:https://www.pressenza.com/it/2021/02/roma-zero-discrimination-day-divers%C9%99dachi/
CLASS:PUBLIC
END:VEVENT
END:VCALENDAR
