BEGIN:VCALENDAR
PRODID:-//AT Content Types//AT Event//EN
VERSION:1.0
BEGIN:VEVENT
DTSTART:20251106T193000Z
DTEND:20251106T210000Z
DCREATED:20251024T205611Z
UID:ATEvent-e98ddbabc76a42bab42651c9fdba2b10
SEQUENCE:0
LAST-MODIFIED:20251024T205615Z
SUMMARY:Rovereto - Incontro "Fermare la follia delle atomiche e del nucleare"
LOCATION:Centro Pace di Rovereto – Via Vicenza\, 5
PRIORITY:3
TRANSP:0
END:VEVENT
END:VCALENDAR
