BEGIN:VCALENDAR
PRODID:-//AT Content Types//AT Event//EN
VERSION:2.0
METHOD:PUBLISH
BEGIN:VEVENT
DTSTAMP:20260419T165447Z
CREATED:20200619T124952Z
UID:ATEvent-f9b93f4db6be4254824ed69382af71af
LAST-MODIFIED:20200619T125430Z
SUMMARY:Sabato 20 Giugno di nuovo in piazza in tutta Italia: coi Sindaci Stop 5G per fermare Colao (e il 5G)
DTSTART:20200620T120000Z
DTEND:20200620T160000Z
DESCRIPTION:L'Associazione Liberacittadinanza aderisce all'iniziativa
LOCATION:Tanti comuni in Italia
CLASS:PUBLIC
END:VEVENT
END:VCALENDAR
