BEGIN:VCALENDAR
PRODID:-//AT Content Types//AT Event//EN
VERSION:2.0
METHOD:PUBLISH
BEGIN:VEVENT
DTSTAMP:20260419T133046Z
CREATED:20250314T222341Z
UID:ATEvent-8a5df4bf03f24292b74abbfbe943ddc5
LAST-MODIFIED:20250314T222440Z
SUMMARY:Sabbioneta - Presentazione libro di Pancho Pardi
DTSTART:20250322T160000Z
DTEND:20250322T173000Z
LOCATION:Sala Consigliare di Sabbioneta
CLASS:PUBLIC
END:VEVENT
END:VCALENDAR
