BEGIN:VCALENDAR
PRODID:-//AT Content Types//AT Event//EN
VERSION:1.0
BEGIN:VEVENT
DTSTART:20260207T160000Z
DTEND:20260207T180000Z
DCREATED:20260206T093607Z
UID:ATEvent-4b093cf4ec3641a99f79162b672d4df3
SEQUENCE:0
LAST-MODIFIED:20260206T094946Z
SUMMARY:Sabbioneta - Incontro con Pancho Pardi sulle ragioni del NO alla riforma della magistratura
LOCATION:Sala Consigliare - Piazza Ducale 2 - Sabbioneta
PRIORITY:3
TRANSP:0
END:VEVENT
END:VCALENDAR
