BEGIN:VCALENDAR
PRODID:-//AT Content Types//AT Event//EN
VERSION:1.0
BEGIN:VEVENT
DTSTART:20250215T160000Z
DTEND:20250215T180000Z
DCREATED:20250208T174402Z
UID:ATEvent-a4063c0ea17a4180abed53589962dd13
SEQUENCE:0
LAST-MODIFIED:20250208T174414Z
SUMMARY:Salsomaggiore - Presentazione dei libri " I Partigiani della Pace" e "Resistenza e non Violenza Creativa
LOCATION:Sede Sezione ANPI\, via Partigiani Salsesi n. 3 - Salsomaggiore Terme.
PRIORITY:3
TRANSP:0
END:VEVENT
END:VCALENDAR
