BEGIN:VCALENDAR
PRODID:-//AT Content Types//AT Event//EN
VERSION:2.0
METHOD:PUBLISH
BEGIN:VEVENT
DTSTAMP:20260419T164833Z
CREATED:20230904T093456Z
UID:ATEvent-5364a067ca6240b7929bc0480b03d7d6
LAST-MODIFIED:20230904T093518Z
SUMMARY:Salviamolo Salviamoci !
DTSTART:20230926T183000Z
DTEND:20230926T210000Z
LOCATION:Diretta Facebook
CLASS:PUBLIC
END:VEVENT
END:VCALENDAR
