BEGIN:VCALENDAR
PRODID:-//AT Content Types//AT Event//EN
VERSION:2.0
METHOD:PUBLISH
BEGIN:VEVENT
DTSTAMP:20260419T165421Z
CREATED:20240307T214435Z
UID:ATEvent-2cfb7d59753c45eaa1b0248e6013f42d
LAST-MODIFIED:20240307T214439Z
SUMMARY:San Vittore Olona - "I Partigiani della pace". Incontro e presentazione libro con gli autori LAURA TUSSI e FABRIZIO CRACOLICI
DTSTART:20240406T150000Z
DTEND:20240406T170000Z
LOCATION:ANPI\, San Vittore Olona - BEL SIT via Roma\, 2
CLASS:PUBLIC
END:VEVENT
END:VCALENDAR
