BEGIN:VCALENDAR
PRODID:-//AT Content Types//AT Event//EN
VERSION:2.0
METHOD:PUBLISH
BEGIN:VEVENT
DTSTAMP:20260419T164833Z
CREATED:20220524T083907Z
UID:ATEvent-8736493f2c2f4c698fa0d878839d0a5c
LAST-MODIFIED:20220524T084613Z
SUMMARY:Seminario online REFERENDUM SULLA GIUSTIZIA
DTSTART:20220526T183000Z
DTEND:20220526T203000Z
LOCATION:seminario online
CLASS:PUBLIC
END:VEVENT
END:VCALENDAR
