BEGIN:VCALENDAR
PRODID:-//AT Content Types//AT Event//EN
VERSION:1.0
BEGIN:VEVENT
DTSTART:20200620T133000Z
DTEND:20200620T160000Z
DCREATED:20200619T130243Z
UID:ATEvent-0b1670b6c40545d09e1ab3a32b0eb8fb
SEQUENCE:0
LAST-MODIFIED:20200619T130252Z
SUMMARY:Stati generali? No Stati solidali! Pic-nic a Villa Panphili con proposte società civile
LOCATION:Villa Panphili - via Leone XIII n.74 - Roma
PRIORITY:3
TRANSP:0
END:VEVENT
END:VCALENDAR
