BEGIN:VCALENDAR
PRODID:-//AT Content Types//AT Event//EN
VERSION:1.0
BEGIN:VEVENT
DTSTART:20260505T150000Z
DTEND:20260505T173000Z
DCREATED:20260421T083548Z
UID:ATEvent-0c66c9a051d7416291c0697e5262a514
SEQUENCE:0
LAST-MODIFIED:20260421T083705Z
SUMMARY:Stato Sociale\, non Stato di Guerra. Contro i Re e le loro guerre\, la ribellione avanza
LOCATION:assemblea online di Stop Rearm Europe
PRIORITY:3
TRANSP:0
END:VEVENT
END:VCALENDAR
