BEGIN:VCALENDAR
PRODID:-//AT Content Types//AT Event//EN
VERSION:1.0
BEGIN:VEVENT
DTSTART:20240518T080000Z
DTEND:20240518T150000Z
DCREATED:20240505T204550Z
UID:ATEvent-3c0e0fb3dd824ac2b3598993c8b24d66
SEQUENCE:0
LAST-MODIFIED:20240505T204801Z
SUMMARY:Torino - Conferenza Nazionale per la riconquista di una scuola che istruisce
LOCATION:c/o Teatro Q77 Corso Brescia 77 - Torino
PRIORITY:3
TRANSP:0
END:VEVENT
END:VCALENDAR
