BEGIN:VCALENDAR
PRODID:-//AT Content Types//AT Event//EN
VERSION:2.0
METHOD:PUBLISH
BEGIN:VEVENT
DTSTAMP:20260419T164732Z
CREATED:20250601T191930Z
UID:ATEvent-732cdf84b9cf48c8b25192dab590ac00
LAST-MODIFIED:20250601T191934Z
SUMMARY:Torino - Difesa Scuola Pubblica
DTSTART:20250604T123000Z
DTEND:20250604T163000Z
LOCATION:Corso Vittorio Emanuele II n.70
CLASS:PUBLIC
END:VEVENT
END:VCALENDAR
