BEGIN:VCALENDAR
PRODID:-//AT Content Types//AT Event//EN
VERSION:2.0
METHOD:PUBLISH
BEGIN:VEVENT
DTSTAMP:20260419T164910Z
CREATED:20250601T165610Z
UID:ATEvent-5724809dda594816869977ab2bf0fbd5
LAST-MODIFIED:20250601T165615Z
SUMMARY:Torino - Fermiamo il genocidio 5 giugno
DTSTART:20250605T150000Z
DTEND:20250605T173000Z
LOCATION:Ritrovo Piazza Castello - Torino
CLASS:PUBLIC
END:VEVENT
END:VCALENDAR
