BEGIN:VCALENDAR
PRODID:-//AT Content Types//AT Event//EN
VERSION:2.0
METHOD:PUBLISH
BEGIN:VEVENT
DTSTAMP:20260419T164720Z
CREATED:20230122T155830Z
UID:ATEvent-da3d82a152f84e5c9baf66e4de8e87bc
LAST-MODIFIED:20230122T155853Z
SUMMARY:Torino - LIBERTÀ NON È UNA BOCCA CHIUSA
DTSTART:20230203T200000Z
DTEND:20230203T220000Z
LOCATION:Fabbrica delle E\, in Corso Trapani 91/b\, a Torino
CLASS:PUBLIC
END:VEVENT
END:VCALENDAR
