BEGIN:VCALENDAR
PRODID:-//AT Content Types//AT Event//EN
VERSION:1.0
BEGIN:VEVENT
DTSTART:20231115T100000Z
DTEND:20231115T113000Z
DCREATED:20231113T214427Z
UID:ATEvent-78e02e60fd5b4e39b3736848b5c80e6a
SEQUENCE:0
LAST-MODIFIED:20231113T214432Z
SUMMARY:Trieste  - CONFERENZA STAMPA Con l’avvocato Felice Carlo Besostri
PRIORITY:3
TRANSP:0
END:VEVENT
END:VCALENDAR
