BEGIN:VCALENDAR
PRODID:-//AT Content Types//AT Event//EN
VERSION:2.0
METHOD:PUBLISH
BEGIN:VEVENT
DTSTAMP:20260419T164833Z
CREATED:20240426T150136Z
UID:ATEvent-a54090fb7dd443a5bbd5dc7dceb4b33e
LAST-MODIFIED:20240426T150147Z
SUMMARY:Uboldo - Presentazione del libro "I PARTIGIANI DELLA PACE"
DTSTART:20240427T190000Z
DTEND:20240427T203000Z
LOCATION:CASA DEI TALENTI - UBOLDO
CLASS:PUBLIC
END:VEVENT
END:VCALENDAR
