BEGIN:VCALENDAR
PRODID:-//AT Content Types//AT Event//EN
VERSION:1.0
BEGIN:VEVENT
DTSTART:20241012T080000Z
DTEND:20241012T093000Z
DCREATED:20240928T165721Z
UID:ATEvent-afc8d60eefa74592b57da9694b460369
SEQUENCE:0
LAST-MODIFIED:20240928T170144Z
SUMMARY:Università "La Sapienza" di Roma. Lezioni con il libro I Partigiani della pace
LOCATION:Università "La Sapienza" di Roma
PRIORITY:3
TRANSP:0
END:VEVENT
END:VCALENDAR
