BEGIN:VCALENDAR
PRODID:-//AT Content Types//AT Event//EN
VERSION:1.0
BEGIN:VEVENT
DTSTART:20220528T133000Z
DTEND:20220528T153000Z
DCREATED:20220526T200616Z
UID:ATEvent-94e70eb62c254e71a5d8a3aea9514ed6
SEQUENCE:0
LAST-MODIFIED:20220526T201042Z
SUMMARY:Venezia - Il 28 Maggio ci vediamo tutte e tutti a Piazzale Roma!
LOCATION:Piazzale Roma - Venezia
PRIORITY:3
TRANSP:0
END:VEVENT
END:VCALENDAR
