BEGIN:VCALENDAR
PRODID:-//AT Content Types//AT Event//EN
VERSION:2.0
METHOD:PUBLISH
BEGIN:VEVENT
DTSTAMP:20260419T133040Z
CREATED:20220829T140033Z
UID:ATEvent-e4a205fff4654d18a1fda0d90971419b
LAST-MODIFIED:20220829T140100Z
SUMMARY:Venezia - VENICE CLIMATE CAMP
DTSTART:20220907T080000Z
DTEND:20220911T130000Z
LOCATION:Lido di Venezia (VE)
CLASS:PUBLIC
END:VEVENT
END:VCALENDAR
