BEGIN:VCALENDAR
PRODID:-//AT Content Types//AT Event//EN
VERSION:1.0
BEGIN:VEVENT
DTSTART:20241006T150000Z
DTEND:20241006T183000Z
DCREATED:20240912T210548Z
UID:ATEvent-955d1ca359b24f23b2058e5e854d742e
SEQUENCE:0
LAST-MODIFIED:20240912T210553Z
SUMMARY:Verona - Incontro su questioni internazionali
LOCATION:VERONA Via della Diga\, 17 (Corte Molon)
PRIORITY:3
TRANSP:0
END:VEVENT
END:VCALENDAR
