BEGIN:VCALENDAR
PRODID:-//AT Content Types//AT Event//EN
VERSION:1.0
BEGIN:VEVENT
DTSTART:20220905T154500Z
DTEND:20220905T173000Z
DCREATED:20220829T141656Z
UID:ATEvent-efbc2a143c174991aa1af8377207ef00
SEQUENCE:0
LAST-MODIFIED:20220829T141701Z
SUMMARY:Votare con una legge sbagliata. Ne parliamo online con Antonio Floridia
LOCATION:Videoconferenza
PRIORITY:3
TRANSP:0
END:VEVENT
END:VCALENDAR
